BEGIN:VCALENDAR
VERSION:2.0
PRODID:-//Ballincollig Business Association - ECPv6.15.18//NONSGML v1.0//EN
CALSCALE:GREGORIAN
METHOD:PUBLISH
X-ORIGINAL-URL:https://ballincollig.ie
X-WR-CALDESC:Events for Ballincollig Business Association
REFRESH-INTERVAL;VALUE=DURATION:PT1H
X-Robots-Tag:noindex
X-PUBLISHED-TTL:PT1H
BEGIN:VTIMEZONE
TZID:Europe/Dublin
BEGIN:STANDARD
TZOFFSETFROM:+0000
TZOFFSETTO:+0100
TZNAME:IST
DTSTART:20240331T010000
END:STANDARD
BEGIN:DAYLIGHT
TZOFFSETFROM:+0100
TZOFFSETTO:+0000
TZNAME:GMT
DTSTART:20241027T010000
END:DAYLIGHT
BEGIN:STANDARD
TZOFFSETFROM:+0000
TZOFFSETTO:+0100
TZNAME:IST
DTSTART:20250330T010000
END:STANDARD
BEGIN:DAYLIGHT
TZOFFSETFROM:+0100
TZOFFSETTO:+0000
TZNAME:GMT
DTSTART:20251026T010000
END:DAYLIGHT
BEGIN:STANDARD
TZOFFSETFROM:+0000
TZOFFSETTO:+0100
TZNAME:IST
DTSTART:20260329T010000
END:STANDARD
BEGIN:DAYLIGHT
TZOFFSETFROM:+0100
TZOFFSETTO:+0000
TZNAME:GMT
DTSTART:20261025T010000
END:DAYLIGHT
END:VTIMEZONE
BEGIN:VEVENT
DTSTART;TZID=Europe/Dublin:20251217T200000
DTEND;TZID=Europe/Dublin:20251217T230000
DTSTAMP:20260423T173542
CREATED:20251204T194322Z
LAST-MODIFIED:20251204T194707Z
UID:1159-1766001600-1766012400@ballincollig.ie
SUMMARY:Nollaig Le Ciara - Christmas Concert
DESCRIPTION:[vc_row type=”full_width_content” full_screen_row_position=”middle” column_margin=”default” column_direction=”default” column_direction_tablet=”default” column_direction_phone=”default” scene_position=”center” text_color=”dark” text_align=”left” row_border_radius=”none” row_border_radius_applies=”bg” overflow=”visible” overlay_strength=”0.3″ gradient_direction=”left_to_right” shape_divider_position=”bottom” bg_image_animation=”none” gradient_type=”default” shape_type=””][vc_column column_padding=”no-extra-padding” column_padding_tablet=”inherit” column_padding_phone=”inherit” column_padding_position=”all” column_element_direction_desktop=”default” column_element_spacing=”default” desktop_text_alignment=”default” tablet_text_alignment=”default” phone_text_alignment=”default” background_color_opacity=”1″ background_hover_color_opacity=”1″ column_backdrop_filter=”none” column_shadow=”none” column_border_radius=”none” column_link_target=”_self” column_position=”default” gradient_direction=”left_to_right” overlay_strength=”0.3″ width=”1/1″ tablet_width_inherit=”default” animation_type=”default” bg_image_animation=”none” border_type=”simple” column_border_width=”none” column_border_style=”solid”][vc_column_text]Christmas Concert feat Soprano Ciara Breen\, guitarist Jim Murray\, Dominic-Lucian Drutac on violin and Ivan Cherednichenko Carrillo cello\nCiara Breen is a singer from Wexford\, Ireland\, currently studying at Trinity Laban Conservatoire of Music and Dance in London under the guidance of Mary Wiegold. She began her musical journey at age seven with the Danescastle Music Group\, where she sang and played flute\, specialising in traditional Irish music. Ciara competed in numerous competitions including Fleadh Cheoil na hÉireann\, Scór\, and Siansa\, in solo singing\, ballad group singing\, and Grupa Ceoil. \nAt the same age\, Ciara started classical singing training at The Kiltra School of Music with Angela Mahon. She later joined music theory classes and became a member of The Little Sea Musical Society. \nIn 2022\, Ciara continued her studies at The Purcell School for Young Musicians in London\, where she expanded her skills in singing\, guitar\, music theory\, and music technology. During her time at Purcell\, she was an active member of the Chamber Choir\, performing in major concerts such as Holst’s The Planets at Queen Elizabeth Hall and Beethoven’s Symphony No. 9 at Southwark Cathedral with the Purcell Symphony Orchestra\, as well as various evensongs and church celebrations. \nIn September 2023\, Ciara performed Mozart’s concert aria “Ch’io mi scordi di te?”accompanied by strings and piano obbligato at St Albans Cathedral. She also featured in a song produced and arranged by a fellow Purcell student\, which was selected for the Commonwealth Youth Awards held at St James’s Palace. \nA passionate folk musician\, Ciara has begun performing regularly in the folk scene. Over the summer\, she was a guest artist at Camden Stewart’s concert at St John the Evangelist\, London\, performed at the Phil Murphy Weekend\, and held her first solo concert at Colfer’s Pub\, joined by Jim Murray\, Liam Berry\, Caoimhe O’Dwyer\, and Alan O’Dwyer.[/vc_column_text][/vc_column][/vc_row]
URL:https://ballincollig.ie/event/nollaig-le-ciara-christmas-concert/
LOCATION:White Horse\, The White Horse\, West Village\, Ballincollig\, Cork\, P31 YA40\, Ireland
CATEGORIES:Concert
ATTACH;FMTTYPE=image/jpeg:https://ballincollig.ie/wp-content/uploads/2025/12/https-cdn.evbuc_.com-images-1171877846-144411917427-1-original.20251127-152431.jpeg
END:VEVENT
END:VCALENDAR