BEGIN:VCALENDAR
VERSION:2.0
PRODID:-//Ballincollig Business Association - ECPv6.15.18//NONSGML v1.0//EN
CALSCALE:GREGORIAN
METHOD:PUBLISH
X-WR-CALNAME:Ballincollig Business Association
X-ORIGINAL-URL:https://ballincollig.ie
X-WR-CALDESC:Events for Ballincollig Business Association
REFRESH-INTERVAL;VALUE=DURATION:PT1H
X-Robots-Tag:noindex
X-PUBLISHED-TTL:PT1H
BEGIN:VTIMEZONE
TZID:Europe/Dublin
BEGIN:STANDARD
TZOFFSETFROM:+0000
TZOFFSETTO:+0100
TZNAME:IST
DTSTART:20250330T010000
END:STANDARD
BEGIN:DAYLIGHT
TZOFFSETFROM:+0100
TZOFFSETTO:+0000
TZNAME:GMT
DTSTART:20251026T010000
END:DAYLIGHT
BEGIN:STANDARD
TZOFFSETFROM:+0000
TZOFFSETTO:+0100
TZNAME:IST
DTSTART:20260329T010000
END:STANDARD
BEGIN:DAYLIGHT
TZOFFSETFROM:+0100
TZOFFSETTO:+0000
TZNAME:GMT
DTSTART:20261025T010000
END:DAYLIGHT
BEGIN:STANDARD
TZOFFSETFROM:+0000
TZOFFSETTO:+0100
TZNAME:IST
DTSTART:20270328T010000
END:STANDARD
BEGIN:DAYLIGHT
TZOFFSETFROM:+0100
TZOFFSETTO:+0000
TZNAME:GMT
DTSTART:20271031T010000
END:DAYLIGHT
END:VTIMEZONE
BEGIN:VEVENT
DTSTART;TZID=Europe/Dublin:20260128T200000
DTEND;TZID=Europe/Dublin:20260128T230000
DTSTAMP:20260425T111918
CREATED:20251218T172246Z
LAST-MODIFIED:20251218T172503Z
UID:1188-1769630400-1769641200@ballincollig.ie
SUMMARY:Niamh Regan – BWMF ’26
DESCRIPTION:[vc_row type=”in_container” full_screen_row_position=”middle” column_margin=”default” column_direction=”default” column_direction_tablet=”default” column_direction_phone=”default” scene_position=”center” text_color=”dark” text_align=”left” row_border_radius=”none” row_border_radius_applies=”bg” overflow=”visible” overlay_strength=”0.3″ gradient_direction=”left_to_right” shape_divider_position=”bottom” bg_image_animation=”none”][vc_column column_padding=”no-extra-padding” column_padding_tablet=”inherit” column_padding_phone=”inherit” column_padding_position=”all” column_element_direction_desktop=”default” column_element_spacing=”default” desktop_text_alignment=”default” tablet_text_alignment=”default” phone_text_alignment=”default” background_color_opacity=”1″ background_hover_color_opacity=”1″ column_backdrop_filter=”none” column_shadow=”none” column_border_radius=”none” column_link_target=”_self” column_position=”default” gradient_direction=”left_to_right” overlay_strength=”0.3″ width=”1/1″ tablet_width_inherit=”default” animation_type=”default” bg_image_animation=”none” border_type=”simple” column_border_width=”none” column_border_style=”solid”][vc_column_text]The 16th Ballincollig Winter Music Festival 2026 proudly presents Niamh Regan. \nWith her acclaimed 2024 release Come As You Are\, Niamh Regan has firmly established herself as one of Ireland’s most distinctive songwriters. Nominated for the RTÉ Choice Prize for Irish Album of the Year\, the album showcases her gift for intimate storytelling\, rich arrangements\, and emotional honesty\, marking a confident evolution from her 2020 debut Hemet\, which received nominations for the RTÉ Folk Awards and the Choice Music Prize. \nProduced by Tommy McLaughlin at Attica Studios\, Come As You Are is rooted in vulnerability and introspection. It invites listeners to embrace authenticity while exploring personal doubt\, relationships\, and questions of direction. Regan pairs delicate folk instrumentation with expansive\, cinematic soundscapes\, creating a work that feels both personal and ambitious. \nRegan first gained attention with Hemet\, a striking debut that led to extensive touring across Ireland\, the UK\, Australia\, and beyond. She has supported artists including CMAT\, Villagers\, John Grant\, SOAK\, Patrick Watson\, James Vincent McMorrow\, and Sam Amidon\, honing a powerful live presence and deep connection with audiences. \nInspired by artists such as Julia Jacklin\, Caroline Rose\, and Wilco\, Come As You Are confirms Regan as a singular voice in contemporary Irish music. With the album now available worldwide and a Choice Prize nomination secured\, 2025 is shaping up to be an important year as she continues to evolve as an artist.[/vc_column_text][/vc_column][/vc_row][vc_row type=”in_container” full_screen_row_position=”middle” column_margin=”default” column_direction=”default” column_direction_tablet=”default” column_direction_phone=”default” scene_position=”center” text_color=”dark” text_align=”left” row_border_radius=”none” row_border_radius_applies=”bg” overflow=”visible” overlay_strength=”0.3″ gradient_direction=”left_to_right” shape_divider_position=”bottom” bg_image_animation=”none”][vc_column column_padding=”no-extra-padding” column_padding_tablet=”inherit” column_padding_phone=”inherit” column_padding_position=”all” column_element_direction_desktop=”default” column_element_spacing=”default” centered_text=”true” desktop_text_alignment=”default” tablet_text_alignment=”default” phone_text_alignment=”default” background_color_opacity=”1″ background_hover_color_opacity=”1″ column_backdrop_filter=”none” column_shadow=”none” column_border_radius=”none” column_link_target=”_self” column_position=”default” gradient_direction=”left_to_right” overlay_strength=”0.3″ width=”1/1″ tablet_width_inherit=”default” animation_type=”default” bg_image_animation=”none” border_type=”simple” column_border_width=”none” column_border_style=”solid” column_padding_type=”default” gradient_type=”default”][nectar_btn size=”jumbo” open_new_tab=”true” button_style=”regular” button_color_2=”Accent-Color” solid_text_color_override=”#ffffff” icon_family=”none” text=”Tickets” url=”https://www.eventbrite.ie/e/niamh-regan-tickets-1977594752139?aff=ebdsoporgprofile”][/vc_column][/vc_row]
URL:https://ballincollig.ie/event/niamh-regan-bwmf-26/
LOCATION:White Horse\, The White Horse\, West Village\, Ballincollig\, Cork\, P31 YA40\, Ireland
CATEGORIES:Concert
ATTACH;FMTTYPE=image/webp:https://ballincollig.ie/wp-content/uploads/2025/12/image-3.webp
END:VEVENT
END:VCALENDAR