BEGIN:VCALENDAR
VERSION:2.0
PRODID:-//Ballincollig Business Association - ECPv6.15.18//NONSGML v1.0//EN
CALSCALE:GREGORIAN
METHOD:PUBLISH
X-ORIGINAL-URL:https://ballincollig.ie
X-WR-CALDESC:Events for Ballincollig Business Association
REFRESH-INTERVAL;VALUE=DURATION:PT1H
X-Robots-Tag:noindex
X-PUBLISHED-TTL:PT1H
BEGIN:VTIMEZONE
TZID:Europe/Dublin
BEGIN:STANDARD
TZOFFSETFROM:+0000
TZOFFSETTO:+0100
TZNAME:IST
DTSTART:20250330T010000
END:STANDARD
BEGIN:DAYLIGHT
TZOFFSETFROM:+0100
TZOFFSETTO:+0000
TZNAME:GMT
DTSTART:20251026T010000
END:DAYLIGHT
BEGIN:STANDARD
TZOFFSETFROM:+0000
TZOFFSETTO:+0100
TZNAME:IST
DTSTART:20260329T010000
END:STANDARD
BEGIN:DAYLIGHT
TZOFFSETFROM:+0100
TZOFFSETTO:+0000
TZNAME:GMT
DTSTART:20261025T010000
END:DAYLIGHT
BEGIN:STANDARD
TZOFFSETFROM:+0000
TZOFFSETTO:+0100
TZNAME:IST
DTSTART:20270328T010000
END:STANDARD
BEGIN:DAYLIGHT
TZOFFSETFROM:+0100
TZOFFSETTO:+0000
TZNAME:GMT
DTSTART:20271031T010000
END:DAYLIGHT
END:VTIMEZONE
BEGIN:VEVENT
DTSTART;TZID=Europe/Dublin:20260509T200000
DTEND;TZID=Europe/Dublin:20260509T230000
DTSTAMP:20260425T123338
CREATED:20260417T132831Z
LAST-MODIFIED:20260417T132831Z
UID:1378-1778356800-1778367600@ballincollig.ie
SUMMARY:Kenan Flannery & Colm Gavin: The Dublin Songwriters Tour
DESCRIPTION:Dublin’s most celebrated troubadours bring their acclaimed co-headline tour to The White Horse\, featuring special guest Kevin Quigley. \nKenan Flannery & Colm Gavin: The Dublin Songwriters Tour \nWith Special Guest Kevin Quigley \nExperience a night of masterclass songwriting as two of Dublin’s most celebrated troubadours bring their acclaimed co-headline tour to the intimate surroundings of The White Horse. \nKenan Flannery is a “storyteller for the damned and broken.” At 26\, this IYMA award-winning songwriter has become the talk of the Irish folk scene for music described as “bone-breakingly beautiful.” With a voice that hits with the raw intensity of a hundred Irish poets\, Kenan bridges the gap between the gritty ballads of The Dubliners and the legendary American folk of John Prine and Townes Van Zandt. Fresh from supporting The White Buffalo and The Wolfe Tones\, Kenan brings an authentic\, haunting energy to the stage that is as visceral as it is vulnerable. \nJoining him is Colm Gavin\, a prolific force in contemporary Irish music. Signed to BEO Records (home to Moya Brennan)\, Gavin has secured multiple No. 1 albums and has seen his work reach the Billboard 100 in the USA. Renowned for his razor-sharp wit and sensitive\, soaring compositions\, Colm has graced iconic stages from Vicar Street to New York’s Birdland Jazz Club\, establishing himself as a singular voice in modern songwriting. \nOpening the evening is Cork-based folk artist Kevin Quigley. Originally from Laois\, Quigley has quickly become a standout figure in the southern scene\, recently supporting the legendary Mary Black. His music is a heartfelt blend of intimate country-folk and indie-rock\, drawing on the honesty of Glen Hansard and Bob Dylan. With his recent EP Catch You Down the Road receiving critical acclaim\, Kevin sets the tone for a night dedicated to the art of the song. \n“The essence of folk music in its rawest and most authentic form.”
URL:https://ballincollig.ie/event/kenan-flannery-colm-gavin-the-dublin-songwriters-tour/
LOCATION:White Horse\, The White Horse\, West Village\, Ballincollig\, Cork\, P31 YA40\, Ireland
CATEGORIES:Concert
ATTACH;FMTTYPE=image/webp:https://ballincollig.ie/wp-content/uploads/2026/04/image-3-e1776432483395.webp
END:VEVENT
END:VCALENDAR