BEGIN:VCALENDAR
VERSION:2.0
PRODID:-//Ballincollig Business Association - ECPv6.15.18//NONSGML v1.0//EN
CALSCALE:GREGORIAN
METHOD:PUBLISH
X-ORIGINAL-URL:https://ballincollig.ie
X-WR-CALDESC:Events for Ballincollig Business Association
REFRESH-INTERVAL;VALUE=DURATION:PT1H
X-Robots-Tag:noindex
X-PUBLISHED-TTL:PT1H
BEGIN:VTIMEZONE
TZID:Europe/Dublin
BEGIN:STANDARD
TZOFFSETFROM:+0000
TZOFFSETTO:+0100
TZNAME:IST
DTSTART:20250330T010000
END:STANDARD
BEGIN:DAYLIGHT
TZOFFSETFROM:+0100
TZOFFSETTO:+0000
TZNAME:GMT
DTSTART:20251026T010000
END:DAYLIGHT
BEGIN:STANDARD
TZOFFSETFROM:+0000
TZOFFSETTO:+0100
TZNAME:IST
DTSTART:20260329T010000
END:STANDARD
BEGIN:DAYLIGHT
TZOFFSETFROM:+0100
TZOFFSETTO:+0000
TZNAME:GMT
DTSTART:20261025T010000
END:DAYLIGHT
BEGIN:STANDARD
TZOFFSETFROM:+0000
TZOFFSETTO:+0100
TZNAME:IST
DTSTART:20270328T010000
END:STANDARD
BEGIN:DAYLIGHT
TZOFFSETFROM:+0100
TZOFFSETTO:+0000
TZNAME:GMT
DTSTART:20271031T010000
END:DAYLIGHT
END:VTIMEZONE
BEGIN:VEVENT
DTSTART;TZID=Europe/Dublin:20260525T200000
DTEND;TZID=Europe/Dublin:20260525T223000
DTSTAMP:20260423T224200
CREATED:20260417T134114Z
LAST-MODIFIED:20260417T134114Z
UID:1380-1779739200-1779748200@ballincollig.ie
SUMMARY:Jimmy MacCarthy with Declan Sinnott and the Electric Horsemen
DESCRIPTION:We are thrilled to present a residency feat. Jimmy MacCarthy w/ Declan Sinnott & the Electric Horsemen playing some of Jimmy’s beloved songs\nJimmy MacCarthy is arguably Ireland’s greatest songwriter\, creator of such rare gems of songs such as Ride On\, No Frontiers\, Missing You\, Katie\, Mystic Lipstick amongst many\, many others.\nWe are honoured to host four special nights where Jimmy will be accompanied by Declan Sinnott and the Electric Horsemen to perfom some of his most well known songs.\nPick up a ticket – be the one in years to come to say “I was there”.
URL:https://ballincollig.ie/event/jimmy-maccarthy-with-declan-sinnott-and-the-electric-horsemen/
LOCATION:White Horse\, The White Horse\, West Village\, Ballincollig\, Cork\, P31 YA40\, Ireland
CATEGORIES:Concert
ATTACH;FMTTYPE=image/jpeg:https://ballincollig.ie/wp-content/uploads/2026/04/1196840_1_org_ie-245935_7caab5cda331419a89b74f0fa80488d8.jpg
END:VEVENT
BEGIN:VEVENT
DTSTART;TZID=Europe/Dublin:20260601T200000
DTEND;TZID=Europe/Dublin:20260601T223000
DTSTAMP:20260423T224200
CREATED:20260417T134232Z
LAST-MODIFIED:20260417T134232Z
UID:1383-1780344000-1780353000@ballincollig.ie
SUMMARY:Jimmy MacCarthy with Declan Sinnott and the Electric Horsemen
DESCRIPTION:We are thrilled to present a residency feat. Jimmy MacCarthy w/ Declan Sinnott & the Electric Horsemen playing some of Jimmy’s beloved songs\nJimmy MacCarthy is arguably Ireland’s greatest songwriter\, creator of such rare gems of songs such as Ride On\, No Frontiers\, Missing You\, Katie\, Mystic Lipstick amongst many\, many others.\nWe are honoured to host four special nights where Jimmy will be accompanied by Declan Sinnott and the Electric Horsemen to perfom some of his most well known songs.\nPick up a ticket – be the one in years to come to say “I was there”.
URL:https://ballincollig.ie/event/jimmy-maccarthy-with-declan-sinnott-and-the-electric-horsemen-2/
LOCATION:White Horse\, The White Horse\, West Village\, Ballincollig\, Cork\, P31 YA40\, Ireland
CATEGORIES:Concert
ATTACH;FMTTYPE=image/jpeg:https://ballincollig.ie/wp-content/uploads/2026/04/1196840_1_org_ie-245935_7caab5cda331419a89b74f0fa80488d8.jpg
END:VEVENT
BEGIN:VEVENT
DTSTART;TZID=Europe/Dublin:20260608T200000
DTEND;TZID=Europe/Dublin:20260608T223000
DTSTAMP:20260423T224200
CREATED:20260417T134309Z
LAST-MODIFIED:20260417T134309Z
UID:1384-1780948800-1780957800@ballincollig.ie
SUMMARY:Jimmy MacCarthy with Declan Sinnott and the Electric Horsemen
DESCRIPTION:We are thrilled to present a residency feat. Jimmy MacCarthy w/ Declan Sinnott & the Electric Horsemen playing some of Jimmy’s beloved songs\nJimmy MacCarthy is arguably Ireland’s greatest songwriter\, creator of such rare gems of songs such as Ride On\, No Frontiers\, Missing You\, Katie\, Mystic Lipstick amongst many\, many others.\nWe are honoured to host four special nights where Jimmy will be accompanied by Declan Sinnott and the Electric Horsemen to perfom some of his most well known songs.\nPick up a ticket – be the one in years to come to say “I was there”.
URL:https://ballincollig.ie/event/jimmy-maccarthy-with-declan-sinnott-and-the-electric-horsemen-3/
LOCATION:White Horse\, The White Horse\, West Village\, Ballincollig\, Cork\, P31 YA40\, Ireland
CATEGORIES:Concert
ATTACH;FMTTYPE=image/jpeg:https://ballincollig.ie/wp-content/uploads/2026/04/1196840_1_org_ie-245935_7caab5cda331419a89b74f0fa80488d8.jpg
END:VEVENT
BEGIN:VEVENT
DTSTART;TZID=Europe/Dublin:20260615T200000
DTEND;TZID=Europe/Dublin:20260615T223000
DTSTAMP:20260423T224200
CREATED:20260417T134346Z
LAST-MODIFIED:20260417T134346Z
UID:1385-1781553600-1781562600@ballincollig.ie
SUMMARY:Jimmy MacCarthy with Declan Sinnott and the Electric Horsemen
DESCRIPTION:We are thrilled to present a residency feat. Jimmy MacCarthy w/ Declan Sinnott & the Electric Horsemen playing some of Jimmy’s beloved songs\nJimmy MacCarthy is arguably Ireland’s greatest songwriter\, creator of such rare gems of songs such as Ride On\, No Frontiers\, Missing You\, Katie\, Mystic Lipstick amongst many\, many others.\nWe are honoured to host four special nights where Jimmy will be accompanied by Declan Sinnott and the Electric Horsemen to perfom some of his most well known songs.\nPick up a ticket – be the one in years to come to say “I was there”.
URL:https://ballincollig.ie/event/jimmy-maccarthy-with-declan-sinnott-and-the-electric-horsemen-4/
LOCATION:White Horse\, The White Horse\, West Village\, Ballincollig\, Cork\, P31 YA40\, Ireland
CATEGORIES:Concert
ATTACH;FMTTYPE=image/jpeg:https://ballincollig.ie/wp-content/uploads/2026/04/1196840_1_org_ie-245935_7caab5cda331419a89b74f0fa80488d8.jpg
END:VEVENT
END:VCALENDAR