BEGIN:VCALENDAR
VERSION:2.0
PRODID:-//Ballincollig Business Association - ECPv6.15.18//NONSGML v1.0//EN
CALSCALE:GREGORIAN
METHOD:PUBLISH
X-WR-CALNAME:Ballincollig Business Association
X-ORIGINAL-URL:https://ballincollig.ie
X-WR-CALDESC:Events for Ballincollig Business Association
REFRESH-INTERVAL;VALUE=DURATION:PT1H
X-Robots-Tag:noindex
X-PUBLISHED-TTL:PT1H
BEGIN:VTIMEZONE
TZID:Europe/Dublin
BEGIN:STANDARD
TZOFFSETFROM:+0000
TZOFFSETTO:+0100
TZNAME:IST
DTSTART:20250330T010000
END:STANDARD
BEGIN:DAYLIGHT
TZOFFSETFROM:+0100
TZOFFSETTO:+0000
TZNAME:GMT
DTSTART:20251026T010000
END:DAYLIGHT
BEGIN:STANDARD
TZOFFSETFROM:+0000
TZOFFSETTO:+0100
TZNAME:IST
DTSTART:20260329T010000
END:STANDARD
BEGIN:DAYLIGHT
TZOFFSETFROM:+0100
TZOFFSETTO:+0000
TZNAME:GMT
DTSTART:20261025T010000
END:DAYLIGHT
BEGIN:STANDARD
TZOFFSETFROM:+0000
TZOFFSETTO:+0100
TZNAME:IST
DTSTART:20270328T010000
END:STANDARD
BEGIN:DAYLIGHT
TZOFFSETFROM:+0100
TZOFFSETTO:+0000
TZNAME:GMT
DTSTART:20271031T010000
END:DAYLIGHT
END:VTIMEZONE
BEGIN:VEVENT
DTSTART;TZID=Europe/Dublin:20260126T203000
DTEND;TZID=Europe/Dublin:20260126T223000
DTSTAMP:20260423T212930
CREATED:20260122T193352Z
LAST-MODIFIED:20260122T193500Z
UID:1303-1769459400-1769466600@ballincollig.ie
SUMMARY:Ballincollig Comhaltas - Live music at weekly Set Dancing Class - BWMF ’26
DESCRIPTION:[vc_row type=”in_container” full_screen_row_position=”middle” column_margin=”default” column_direction=”default” column_direction_tablet=”default” column_direction_phone=”default” scene_position=”center” text_color=”dark” text_align=”left” row_border_radius=”none” row_border_radius_applies=”bg” overflow=”visible” overlay_strength=”0.3″ gradient_direction=”left_to_right” shape_divider_position=”bottom” bg_image_animation=”none”][vc_column column_padding=”no-extra-padding” column_padding_tablet=”inherit” column_padding_phone=”inherit” column_padding_position=”all” column_element_direction_desktop=”default” column_element_spacing=”default” desktop_text_alignment=”default” tablet_text_alignment=”default” phone_text_alignment=”default” background_color_opacity=”1″ background_hover_color_opacity=”1″ column_backdrop_filter=”none” column_shadow=”none” column_border_radius=”none” column_link_target=”_self” column_position=”default” gradient_direction=”left_to_right” overlay_strength=”0.3″ width=”1/1″ tablet_width_inherit=”default” animation_type=”default” bg_image_animation=”none” border_type=”simple” column_border_width=”none” column_border_style=”solid”][vc_column_text]Set Dancing Classes are held on Monday nights from September to May in the GAA hall from 8.30 – 10.30 pm.\nBíonn ranganna seite ar siúl ar an Luan ó Meán Fómhair go Bealtaine i halla CLG ó 8.30 – 10.30 i.n. \nNo need to bring a partner\, just bring your dancing shoes.\nSteps for beginners from 8:15. First hour 8.30 – 9.30 is learning a new set. Second hour is dancing previously learned sets.\n​[/vc_column_text][/vc_column][/vc_row][vc_row type=”in_container” full_screen_row_position=”middle” column_margin=”default” column_direction=”default” column_direction_tablet=”default” column_direction_phone=”default” scene_position=”center” text_color=”dark” text_align=”left” row_border_radius=”none” row_border_radius_applies=”bg” overflow=”visible” overlay_strength=”0.3″ gradient_direction=”left_to_right” shape_divider_position=”bottom” bg_image_animation=”none”][vc_column column_padding=”no-extra-padding” column_padding_tablet=”inherit” column_padding_phone=”inherit” column_padding_position=”all” column_element_direction_desktop=”default” column_element_spacing=”default” centered_text=”true” desktop_text_alignment=”default” tablet_text_alignment=”default” phone_text_alignment=”default” background_color_opacity=”1″ background_hover_color_opacity=”1″ column_backdrop_filter=”none” column_shadow=”none” column_border_radius=”none” column_link_target=”_self” column_position=”default” gradient_direction=”left_to_right” overlay_strength=”0.3″ width=”1/1″ tablet_width_inherit=”default” animation_type=”default” bg_image_animation=”none” border_type=”simple” column_border_width=”none” column_border_style=”solid” column_padding_type=”default” gradient_type=”default”][/vc_column][/vc_row]
URL:https://ballincollig.ie/event/ballincollig-comhaltas-live-music-at-weekly-set-dancing-class-bwmf-26/
LOCATION:Ballincollig GAA\, Powder Mills\, Ballincollig\, Cork\, P31 DH58\, Ireland
CATEGORIES:Networking,Workshop
ATTACH;FMTTYPE=image/png:https://ballincollig.ie/wp-content/uploads/2026/01/Set-Dancing-Classes-2025-e1769110415711.png
ORGANIZER;CN="Ballincollig Comhaltas":MAILTO:ballincolligcce@gmail.com
END:VEVENT
BEGIN:VEVENT
DTSTART;TZID=Europe/Dublin:20260131T101500
DTEND;TZID=Europe/Dublin:20260131T123000
DTSTAMP:20260423T212930
CREATED:20260122T122248Z
LAST-MODIFIED:20260122T122422Z
UID:1269-1769854500-1769862600@ballincollig.ie
SUMMARY:Fiddle Workshop With Athena Tergis – BWMF ’26
DESCRIPTION:[vc_row type=”in_container” full_screen_row_position=”middle” column_margin=”default” column_direction=”default” column_direction_tablet=”default” column_direction_phone=”default” scene_position=”center” text_color=”dark” text_align=”left” row_border_radius=”none” row_border_radius_applies=”bg” overflow=”visible” overlay_strength=”0.3″ gradient_direction=”left_to_right” shape_divider_position=”bottom” bg_image_animation=”none”][vc_column column_padding=”no-extra-padding” column_padding_tablet=”inherit” column_padding_phone=”inherit” column_padding_position=”all” column_element_direction_desktop=”default” column_element_spacing=”default” desktop_text_alignment=”default” tablet_text_alignment=”default” phone_text_alignment=”default” background_color_opacity=”1″ background_hover_color_opacity=”1″ column_backdrop_filter=”none” column_shadow=”none” column_border_radius=”none” column_link_target=”_self” column_position=”default” gradient_direction=”left_to_right” overlay_strength=”0.3″ width=”1/1″ tablet_width_inherit=”default” animation_type=”default” bg_image_animation=”none” border_type=”simple” column_border_width=”none” column_border_style=”solid”][vc_column_text]BWMF26 is proud to present a delightful opportunity to learn Fiddle with internationally renowned and acclaimed fiddler Athena Tergis \nNOTE: The workshop is designed for experienced players and will take place with The White Horse. Gather at 10:15am\, workshop to finish at 12:30pm.\n\nBorn in NYC and raised in San Francisco\, Athena Tergis showed a love and talent for the violin at an early age. She began with the Suzuki method at age four\, yet she yearned for more creativity and freedom in her music. She found this at Alasdair Fraser’s Valley of the Moon Scottish Fiddling School\, where she studied with greats such as Mairead Ni Mhaonaigh\, Alasdair Fraser\, and Buddy MacMaster\, winning the Junior National Scottish Fiddling Championship three years in a row. \nAt sixteen\, Athena released her first album\, Journey Begun\, on Culburnie Records\, an album of original and Scottish music with fellow fiddler Laura Risk. While considering a music degree at eighteen\, Athena instead moved to Ireland\, where she immersed herself in Irish traditional music for nearly four years. While living in Galway\, she was invited by renowned box accordion player Sharon Shannon to join the Sharon Shannon Band for their 1997 European festival tour and Gail Force TV series recording. Living in Galway\, Belfast\, and London\, Athena toured extensively\, finally accepting an offer to star in a new production of Lord of the Dance in Las Vegas. Shortly after\, she was invited to become the principal fiddler for the Broadway production of Riverdance. \nAfter completing the year-and-a-half run of Riverdance on Broadway as the solo fiddler\, Athena created Sonic Arts Studios and Solarsonic Records\, a professional recording studio and record label in Brooklyn\, NY. She continued to perform regularly\, touring for over a year with sax player Clarence Clemons of The E Street Band. While living in New York\, Athena met singer\, historian\, and banjo player Mick Moloney. The pair had a rare musical spark and soon began playing regularly together in The Green Fields of America. \nIn 2007\, Athena released her solo album A Letter Home on Compass Records. Produced by John Doyle\, it includes an A-list roster of supporting musicians and represents her deep love and appreciation for Irish traditional music. Her album with The Green Fields of America\, also on Compass Records\, represents the melding and cross-fertilization of Irish and American music. Athena Tergis and The Green Fields of America were featured in the award-winning documentary on PBS\, Absolutely Irish!\, produced by Paul Wagner in 2007. \nIn 2009\, Athena was a featured soloist in the USA tour with the Dublin Philharmonic Orchestra. During the ten-week\, 49-city tour of America\, Athena was a featured soloist in nine compositions\, including Inishlacken\, a concerto for two violins written by Bill Whelan\, alongside classical violinist Cora Venus Lunny. Her tour with The Dublin Philharmonic Orchestra of China included the live\, nationally broadcast debut of her original compositions “Old Quarry” and “Slide\,” co-written by John Doyle and arranged by Derek Gleeson\, at the Beijing National Center for the Performing Arts Opera Theater. \nHer collaboration and musical exploration with Riverdance composer Bill Whelan led them to be featured artists in the 2010 Masters in Collaboration Series produced by the New York Irish Arts Center\, with additional performances in Holland and NYC. Athena also returned to Broadway and the NY Irish Arts Center for the 63rd annual production of An Irish Christmas\, co-produced with Mick Moloney.\nAthena was also a featured artist in the new show Heartbeat of Home from the producers of Riverdance for their North American premiere. Athena has spent the past ten years in the village of Montalcino in Tuscany\, Italy\, where she and her husband own an award-winning winery\, Terralsole.[/vc_column_text][/vc_column][/vc_row][vc_row type=”in_container” full_screen_row_position=”middle” column_margin=”default” column_direction=”default” column_direction_tablet=”default” column_direction_phone=”default” scene_position=”center” text_color=”dark” text_align=”left” row_border_radius=”none” row_border_radius_applies=”bg” overflow=”visible” overlay_strength=”0.3″ gradient_direction=”left_to_right” shape_divider_position=”bottom” bg_image_animation=”none”][vc_column column_padding=”no-extra-padding” column_padding_tablet=”inherit” column_padding_phone=”inherit” column_padding_position=”all” column_element_direction_desktop=”default” column_element_spacing=”default” centered_text=”true” desktop_text_alignment=”default” tablet_text_alignment=”default” phone_text_alignment=”default” background_color_opacity=”1″ background_hover_color_opacity=”1″ column_backdrop_filter=”none” column_shadow=”none” column_border_radius=”none” column_link_target=”_self” column_position=”default” gradient_direction=”left_to_right” overlay_strength=”0.3″ width=”1/1″ tablet_width_inherit=”default” animation_type=”default” bg_image_animation=”none” border_type=”simple” column_border_width=”none” column_border_style=”solid” column_padding_type=”default” gradient_type=”default”][nectar_btn size=”large” open_new_tab=”true” button_style=”regular” button_color_2=”Accent-Color” solid_text_color_override=”#ffffff” icon_family=”none” text=”Tickets” url=”https://www.eventbrite.ie/e/fiddle-workshop-with-athena-tergis-tickets-1980634901307?aff=ebdsshsms&utm_share_source=search_android&sg=2318bcc37a7553ba58c1eb5defc3a27208675658a51aba2e679f2efcd876f5367911ebb348f438cc22ceeefccdb6f498a3b497beb9de6eb88c0853e24443894f514e8955895b1e2375a56b4e20″][/vc_column][/vc_row]
URL:https://ballincollig.ie/event/fiddle-workshop-with-athena-tergis-bwmf-26/
LOCATION:White Horse\, The White Horse\, West Village\, Ballincollig\, Cork\, P31 YA40\, Ireland
CATEGORIES:Workshop
ATTACH;FMTTYPE=image/webp:https://ballincollig.ie/wp-content/uploads/2026/01/image-e1769084556116.webp
END:VEVENT
BEGIN:VEVENT
DTSTART;TZID=Europe/Dublin:20260131T101500
DTEND;TZID=Europe/Dublin:20260131T123000
DTSTAMP:20260423T212930
CREATED:20260122T122713Z
LAST-MODIFIED:20260122T122713Z
UID:1272-1769854500-1769862600@ballincollig.ie
SUMMARY:Flute Workshop With Barry Kerr – BWMF ’26
DESCRIPTION:[vc_row type=”in_container” full_screen_row_position=”middle” column_margin=”default” column_direction=”default” column_direction_tablet=”default” column_direction_phone=”default” scene_position=”center” text_color=”dark” text_align=”left” row_border_radius=”none” row_border_radius_applies=”bg” overflow=”visible” overlay_strength=”0.3″ gradient_direction=”left_to_right” shape_divider_position=”bottom” bg_image_animation=”none”][vc_column column_padding=”no-extra-padding” column_padding_tablet=”inherit” column_padding_phone=”inherit” column_padding_position=”all” column_element_direction_desktop=”default” column_element_spacing=”default” desktop_text_alignment=”default” tablet_text_alignment=”default” phone_text_alignment=”default” background_color_opacity=”1″ background_hover_color_opacity=”1″ column_backdrop_filter=”none” column_shadow=”none” column_border_radius=”none” column_link_target=”_self” column_position=”default” gradient_direction=”left_to_right” overlay_strength=”0.3″ width=”1/1″ tablet_width_inherit=”default” animation_type=”default” bg_image_animation=”none” border_type=”simple” column_border_width=”none” column_border_style=”solid”][vc_column_text]BWMF26 is proud to present a flute workshop with celebrated artist\, composer and award-winning flautist Barry Kerr \nNOTE: The workshop is designed for experienced players and will take place with The White Horse. Gather at 10:15am\, workshop to finish at 12:30pm. \nOriginally from the southern shores of Lough Neagh in County Armagh but now living and working in Connemara\, Co. Glaway\, Barry Kerr is one of Ireland’s most accomplished artists. He has toured the world as a solo artist and has been equally at home sharing the stage in the company of other artists including Steve Cooney\, Cara Dillon\, Julie Fowlis\, Lumiere and Dervish. Renowned folk acts such as Karan Casey\, Flook\, Jiggy\, Beoga\, Brian Finnegan\, Damian O’Kane and Kate Rusby include his compositions in their tour repertoires. \nHe has performed on some of the most prestigious stages in the world\, from Radio City Music Hall in New York to the Greek Theatre in Los Angeles and has multiple arena tours under his belt. He performed as principal uilleann piper on a symphony orchestra tour of the United States with Celtic Thunder under the direction of conductor David Brophy. \nAs Artist in Residence at the celebrated Duncairn Centre for Culture and Arts in Belfast for a number of years\, Barry played a central role in developing the city of Belfast as a vibrant cultural hub.\nPrevious works include; Cairn (2020) a result of being awarded the Liam O’Flynn Awardfrom The National Concert Hall and the Arts Council in March 2020\, Castor Bay (2018) a duet album of traditional song\, flute\, uilleann pipes and fiddle music with his sister Laura Kerr and guitarist Donogh Hennessy; Boy in a Boat (2015) a collection of original songs; CEATHAIR and Continuum an exploration of the concept of relating visual art with musical performance\, storytelling and composition. \n‘Just heard Barry’ Kerr’s ‘Of Sportsmen Bold’. What a moment. Stopped me in my tracks. Could not stop listening. Stunning.’ Imelda May \n‘Pipes and flute dip and soar with avian elegance’ **** The Irish Times \n‘Like Gaughan and Moore\, but with his own thing going on\, I love this guy’. Mike Harding\, BBC \n‘Barry Kerr’s Boy in a Boat is an exceptional\, original\, artistic and enduring masterpiece.’ Irish Music Magazine[/vc_column_text][/vc_column][/vc_row][vc_row type=”in_container” full_screen_row_position=”middle” column_margin=”default” column_direction=”default” column_direction_tablet=”default” column_direction_phone=”default” scene_position=”center” text_color=”dark” text_align=”left” row_border_radius=”none” row_border_radius_applies=”bg” overflow=”visible” overlay_strength=”0.3″ gradient_direction=”left_to_right” shape_divider_position=”bottom” bg_image_animation=”none”][vc_column column_padding=”no-extra-padding” column_padding_tablet=”inherit” column_padding_phone=”inherit” column_padding_position=”all” column_element_direction_desktop=”default” column_element_spacing=”default” centered_text=”true” desktop_text_alignment=”default” tablet_text_alignment=”default” phone_text_alignment=”default” background_color_opacity=”1″ background_hover_color_opacity=”1″ column_backdrop_filter=”none” column_shadow=”none” column_border_radius=”none” column_link_target=”_self” column_position=”default” gradient_direction=”left_to_right” overlay_strength=”0.3″ width=”1/1″ tablet_width_inherit=”default” animation_type=”default” bg_image_animation=”none” border_type=”simple” column_border_width=”none” column_border_style=”solid” column_padding_type=”default” gradient_type=”default”][nectar_btn size=”large” open_new_tab=”true” button_style=”regular” button_color_2=”Accent-Color” solid_text_color_override=”#ffffff” icon_family=”none” text=”Tickets” url=”https://www.eventbrite.ie/e/flute-workshop-with-barry-kerr-tickets-1980635614440?aff=ebdsshsms&utm_share_source=search_android&sg=2318bcc37a7553ba58c1eb5defc3a27208675658a51aba2e679f2efcd876f5367911ebb348f438cc22ceeefccdb6f498a3b497beb9de6eb88c0853e24443894f514e8955895b1e2375a56b4e20#location”][/vc_column][/vc_row]
URL:https://ballincollig.ie/event/flute-workshop-with-barry-kerr-bwmf-26/
LOCATION:White Horse\, The White Horse\, West Village\, Ballincollig\, Cork\, P31 YA40\, Ireland
CATEGORIES:Workshop
ATTACH;FMTTYPE=image/webp:https://ballincollig.ie/wp-content/uploads/2026/01/image-2-e1769084824386.webp
END:VEVENT
BEGIN:VEVENT
DTSTART;TZID=Europe/Dublin:20260131T101500
DTEND;TZID=Europe/Dublin:20260131T123000
DTSTAMP:20260423T212930
CREATED:20260122T123256Z
LAST-MODIFIED:20260122T123256Z
UID:1274-1769854500-1769862600@ballincollig.ie
SUMMARY:Accordion Workshop With Diarmuid Ó Meachair – BWMF ’26
DESCRIPTION:[vc_row type=”in_container” full_screen_row_position=”middle” column_margin=”default” column_direction=”default” column_direction_tablet=”default” column_direction_phone=”default” scene_position=”center” text_color=”dark” text_align=”left” row_border_radius=”none” row_border_radius_applies=”bg” overflow=”visible” overlay_strength=”0.3″ gradient_direction=”left_to_right” shape_divider_position=”bottom” bg_image_animation=”none”][vc_column column_padding=”no-extra-padding” column_padding_tablet=”inherit” column_padding_phone=”inherit” column_padding_position=”all” column_element_direction_desktop=”default” column_element_spacing=”default” desktop_text_alignment=”default” tablet_text_alignment=”default” phone_text_alignment=”default” background_color_opacity=”1″ background_hover_color_opacity=”1″ column_backdrop_filter=”none” column_shadow=”none” column_border_radius=”none” column_link_target=”_self” column_position=”default” gradient_direction=”left_to_right” overlay_strength=”0.3″ width=”1/1″ tablet_width_inherit=”default” animation_type=”default” bg_image_animation=”none” border_type=”simple” column_border_width=”none” column_border_style=”solid”][vc_column_text]BWMF26 is proud to present a rare opportunity to learn Accordion with award winning\, De Dannan member Diarmuid Ó Meachair \nNOTE: The workshop is designed for experienced players and will take place with The White Horse. Gather at 10:15am\, workshop to finish at 12:30pm. \nDiarmuid Ó Meachair is a traditional Irish accordion and melodeon player from Cúil Aodha\, Co. Cork\, and is also a sean-nós singer. In 2022\, he was awarded the prestigious TG4 Ceoltóir Óg na Bliana (Young Musician of the Year).\nDiarmuid currently teaches Irish traditional music at University College Cork and also teaches at Holy Cross University in Worcester\, Massachusetts. He has performed with De Dannan internationally since 2022. \nOver the past two years\, Diarmuid has released four solo albums and he has been nominated for three RTÉ Folk Awards: Best Instrumentalist (2023 & 2024) and Best Emerging Artist (2023).[/vc_column_text][/vc_column][/vc_row][vc_row type=”in_container” full_screen_row_position=”middle” column_margin=”default” column_direction=”default” column_direction_tablet=”default” column_direction_phone=”default” scene_position=”center” text_color=”dark” text_align=”left” row_border_radius=”none” row_border_radius_applies=”bg” overflow=”visible” overlay_strength=”0.3″ gradient_direction=”left_to_right” shape_divider_position=”bottom” bg_image_animation=”none”][vc_column column_padding=”no-extra-padding” column_padding_tablet=”inherit” column_padding_phone=”inherit” column_padding_position=”all” column_element_direction_desktop=”default” column_element_spacing=”default” centered_text=”true” desktop_text_alignment=”default” tablet_text_alignment=”default” phone_text_alignment=”default” background_color_opacity=”1″ background_hover_color_opacity=”1″ column_backdrop_filter=”none” column_shadow=”none” column_border_radius=”none” column_link_target=”_self” column_position=”default” gradient_direction=”left_to_right” overlay_strength=”0.3″ width=”1/1″ tablet_width_inherit=”default” animation_type=”default” bg_image_animation=”none” border_type=”simple” column_border_width=”none” column_border_style=”solid” column_padding_type=”default” gradient_type=”default”][nectar_btn size=”large” open_new_tab=”true” button_style=”regular” button_color_2=”Accent-Color” solid_text_color_override=”#ffffff” icon_family=”none” text=”Tickets” url=”https://www.eventbrite.ie/e/accordion-workshop-with-diarmuid-o-meachair-tickets-1980634728791?aff=ebdsshsms&utm_share_source=search_android&sg=2318bcc37a7553ba58c1eb5defc3a27208675658a51aba2e679f2efcd876f5367911ebb348f438cc22ceeefccdb6f498a3b497beb9de6eb88c0853e24443894f514e8955895b1e2375a56b4e20″][/vc_column][/vc_row]
URL:https://ballincollig.ie/event/accordion-workshop-with-diarmuid-o-meachair-bwmf-26/
LOCATION:White Horse\, The White Horse\, West Village\, Ballincollig\, Cork\, P31 YA40\, Ireland
CATEGORIES:Workshop
ATTACH;FMTTYPE=image/png:https://ballincollig.ie/wp-content/uploads/2026/01/Artboard-147464-1.png
END:VEVENT
BEGIN:VEVENT
DTSTART;TZID=Europe/Dublin:20260131T200000
DTEND;TZID=Europe/Dublin:20260131T220000
DTSTAMP:20260423T212930
CREATED:20260122T123806Z
LAST-MODIFIED:20260123T073449Z
UID:1278-1769889600-1769896800@ballincollig.ie
SUMMARY:Ceol an Phaoraigh – BWMF ’26
DESCRIPTION:[vc_row type=”in_container” full_screen_row_position=”middle” column_margin=”default” column_direction=”default” column_direction_tablet=”default” column_direction_phone=”default” scene_position=”center” text_color=”dark” text_align=”left” row_border_radius=”none” row_border_radius_applies=”bg” overflow=”visible” overlay_strength=”0.3″ gradient_direction=”left_to_right” shape_divider_position=”bottom” bg_image_animation=”none”][vc_column column_padding=”no-extra-padding” column_padding_tablet=”inherit” column_padding_phone=”inherit” column_padding_position=”all” column_element_direction_desktop=”default” column_element_spacing=”default” desktop_text_alignment=”default” tablet_text_alignment=”default” phone_text_alignment=”default” background_color_opacity=”1″ background_hover_color_opacity=”1″ column_backdrop_filter=”none” column_shadow=”none” column_border_radius=”none” column_link_target=”_self” column_position=”default” gradient_direction=”left_to_right” overlay_strength=”0.3″ width=”1/1″ tablet_width_inherit=”default” animation_type=”default” bg_image_animation=”none” border_type=”simple” column_border_width=”none” column_border_style=”solid”][vc_column_text]\n\n\nJoin us for a special night celebrating the wonderful compositions of our own Martin Power – Featuring Ceolfhoireann Thraidisiúnta Mhúscraí \n\n\n\n\nBallincollig Comhaltas is delighted to showcase Ceol an Phaoraigh\, the selected compositions of our own Martin Power. Join us on the night with performances from our branch teachers and promoters of Martin’s Music and Junior Student Ensemble group. \nOur Trad-Orchestra Ceolfhoireann Thraidisiúnta Mhúscraí – Bláth na hÓige will also perform the brand new suite ‘Cumhacht an Cheoil’ a selection of pieces composed by Martin and arranged for the orchestra by Caroline Uí Chathasaigh & Brian Ó Broin for the orchestras upcoming performance in the National Concert Hall in Dublin. \nIt promises to be an unforgettable night of Ceol\, Craic and Compositions!! \n\n\n[/vc_column_text][image_with_animation image_url=”1323″ image_size=”large_featured” animation_type=”entrance” animation=”None” animation_movement_type=”transform_y” hover_animation=”none” alignment=”center” border_radius=”none” box_shadow=”none” image_loading=”default” max_width=”100%” max_width_mobile=”default”][/vc_column][/vc_row][vc_row type=”in_container” full_screen_row_position=”middle” column_margin=”default” column_direction=”default” column_direction_tablet=”default” column_direction_phone=”default” scene_position=”center” text_color=”dark” text_align=”left” row_border_radius=”none” row_border_radius_applies=”bg” overflow=”visible” overlay_strength=”0.3″ gradient_direction=”left_to_right” shape_divider_position=”bottom” bg_image_animation=”none”][vc_column column_padding=”no-extra-padding” column_padding_tablet=”inherit” column_padding_phone=”inherit” column_padding_position=”all” column_element_direction_desktop=”default” column_element_spacing=”default” centered_text=”true” desktop_text_alignment=”default” tablet_text_alignment=”default” phone_text_alignment=”default” background_color_opacity=”1″ background_hover_color_opacity=”1″ column_backdrop_filter=”none” column_shadow=”none” column_border_radius=”none” column_link_target=”_self” column_position=”default” gradient_direction=”left_to_right” overlay_strength=”0.3″ width=”1/1″ tablet_width_inherit=”default” animation_type=”default” bg_image_animation=”none” border_type=”simple” column_border_width=”none” column_border_style=”solid” column_padding_type=”default” gradient_type=”default”][nectar_btn size=”large” open_new_tab=”true” button_style=”regular” button_color_2=”Accent-Color” solid_text_color_override=”#ffffff” icon_family=”none” text=”Tickets” url=”https://www.eventbrite.com/e/ceol-an-phaoraigh-the-selected-compositions-of-martin-power-tickets-1980560854832?aff=ebdssbdestsearch”][/vc_column][/vc_row]
URL:https://ballincollig.ie/event/ceol-an-phaoraigh-bwmf-26/
LOCATION:Coláiste Choilm\, Carrigrohane\, Ballincollig\, Cork\, P31 NY77\, Ireland
CATEGORIES:Workshop
ATTACH;FMTTYPE=image/webp:https://ballincollig.ie/wp-content/uploads/2026/01/image-3.webp
ORGANIZER;CN="Ballincollig Comhaltas":MAILTO:ballincolligcce@gmail.com
END:VEVENT
END:VCALENDAR